Package: TADCompare Version: 1.20.0 Command: rm -rf TADCompare.buildbin-libdir && mkdir TADCompare.buildbin-libdir && /Users/biocbuild/BBS/utils/build-universal.sh TADCompare_1.20.0.tar.gz /Library/Frameworks/R.framework/Resources/bin/R TADCompare.buildbin-libdir StartedAt: 2025-11-04 02:08:01 -0500 (Tue, 04 Nov 2025) EndedAt: 2025-11-04 02:08:46 -0500 (Tue, 04 Nov 2025) EllapsedTime: 44.3 seconds RetCode: 0 Status: OK PackageFile: TADCompare_1.20.0.tgz PackageFileSize: 5.013 MiB