Package: SynMut Version: 1.26.0 Command: /Library/Frameworks/R.framework/Resources/bin/R CMD INSTALL SynMut StartedAt: 2025-11-03 15:22:33 -0500 (Mon, 03 Nov 2025) EndedAt: 2025-11-03 15:22:51 -0500 (Mon, 03 Nov 2025) EllapsedTime: 18.0 seconds RetCode: 0 Status: OK