Package: SynMut Version: 1.26.0 Command: /Library/Frameworks/R.framework/Resources/bin/R CMD build --keep-empty-dirs --no-resave-data SynMut StartedAt: 2025-11-03 19:02:31 -0500 (Mon, 03 Nov 2025) EndedAt: 2025-11-03 19:02:53 -0500 (Mon, 03 Nov 2025) EllapsedTime: 21.7 seconds RetCode: 0 Status: OK PackageFile: SynMut_1.26.0.tar.gz PackageFileSize: 104.6 KiB