Package: SynMut Version: 1.24.0 Command: /home/biocbuild/R/R/bin/R CMD INSTALL SynMut StartedAt: 2025-10-13 20:28:24 -0000 (Mon, 13 Oct 2025) EndedAt: 2025-10-13 20:28:40 -0000 (Mon, 13 Oct 2025) EllapsedTime: 16.1 seconds RetCode: 0 Status: OK