Package: SynMut Version: 1.24.0 Command: rm -rf SynMut.buildbin-libdir && mkdir SynMut.buildbin-libdir && /Users/biocbuild/BBS/utils/build-universal.sh SynMut_1.24.0.tar.gz /Library/Frameworks/R.framework/Resources/bin/R SynMut.buildbin-libdir StartedAt: 2025-04-21 22:54:44 -0400 (Mon, 21 Apr 2025) EndedAt: 2025-04-21 22:54:50 -0400 (Mon, 21 Apr 2025) EllapsedTime: 6.1 seconds RetCode: 0 Status: OK PackageFile: SynMut_1.24.0.tgz PackageFileSize: 319.1 KiB