Package: SynExtend Version: 1.22.0 Command: /home/biocbuild/R/R/bin/R CMD INSTALL SynExtend StartedAt: 2025-11-10 21:42:01 -0000 (Mon, 10 Nov 2025) EndedAt: 2025-11-10 21:42:40 -0000 (Mon, 10 Nov 2025) EllapsedTime: 39.0 seconds RetCode: 0 Status: OK