Package: SynExtend Version: 1.22.0 Command: /home/biocbuild/R/R/bin/R CMD build --keep-empty-dirs --no-resave-data SynExtend StartedAt: 2025-11-14 05:53:01 -0000 (Fri, 14 Nov 2025) EndedAt: 2025-11-14 05:54:37 -0000 (Fri, 14 Nov 2025) EllapsedTime: 96.1 seconds RetCode: 0 Status: OK PackageFile: SynExtend_1.22.0.tar.gz PackageFileSize: 3.097 MiB