Package: SynExtend Version: 1.22.0 Command: /home/biocbuild/bbs-3.22-bioc/R/bin/R CMD check --install=check:SynExtend.install-out.txt --library=/home/biocbuild/bbs-3.22-bioc/R/site-library --timings SynExtend_1.22.0.tar.gz StartedAt: 2025-11-14 04:51:49 -0500 (Fri, 14 Nov 2025) EndedAt: 2025-11-14 04:58:40 -0500 (Fri, 14 Nov 2025) EllapsedTime: 411.6 seconds RetCode: 0 Status: OK CheckDir: SynExtend.Rcheck Warnings: 0