Package: SynExtend Version: 1.20.2 Command: /Library/Frameworks/R.framework/Resources/bin/R CMD INSTALL SynExtend StartedAt: 2025-10-09 15:58:20 -0400 (Thu, 09 Oct 2025) EndedAt: 2025-10-09 15:59:22 -0400 (Thu, 09 Oct 2025) EllapsedTime: 62.4 seconds RetCode: 0 Status: OK