Package: SynExtend Version: 1.20.2 Command: /Library/Frameworks/R.framework/Resources/bin/R CMD build --keep-empty-dirs --no-resave-data SynExtend StartedAt: 2025-10-09 23:09:54 -0400 (Thu, 09 Oct 2025) EndedAt: 2025-10-09 23:12:21 -0400 (Thu, 09 Oct 2025) EllapsedTime: 146.8 seconds RetCode: 0 Status: OK PackageFile: SynExtend_1.20.2.tar.gz PackageFileSize: 3.129 MiB