Package: SynExtend Version: 1.20.2 Command: rm -rf SynExtend.buildbin-libdir && mkdir SynExtend.buildbin-libdir && /Users/biocbuild/BBS/utils/build-universal.sh SynExtend_1.20.2.tar.gz /Library/Frameworks/R.framework/Resources/bin/R SynExtend.buildbin-libdir StartedAt: 2025-10-10 14:56:31 -0400 (Fri, 10 Oct 2025) EndedAt: 2025-10-10 14:57:47 -0400 (Fri, 10 Oct 2025) EllapsedTime: 76.3 seconds RetCode: 0 Status: OK PackageFile: SynExtend_1.20.2.tgz PackageFileSize: 3.973 MiB