Package: SwathXtend Version: 2.32.0 Command: /home/biocbuild/bbs-3.22-bioc/R/bin/R CMD INSTALL SwathXtend StartedAt: 2025-11-11 15:08:21 -0500 (Tue, 11 Nov 2025) EndedAt: 2025-11-11 15:08:39 -0500 (Tue, 11 Nov 2025) EllapsedTime: 17.8 seconds RetCode: 0 Status: OK