Package: SwathXtend Version: 2.32.0 Command: /home/biocbuild/bbs-3.22-bioc/R/bin/R CMD build --keep-empty-dirs --no-resave-data --md5 SwathXtend StartedAt: 2025-11-11 20:34:33 -0500 (Tue, 11 Nov 2025) EndedAt: 2025-11-11 20:37:39 -0500 (Tue, 11 Nov 2025) EllapsedTime: 186.2 seconds RetCode: 0 Status: OK PackageFile: SwathXtend_2.32.0.tar.gz PackageFileSize: 346.5 MiB