Package: SurfR Version: 1.6.0 Command: /home/biocbuild/bbs-3.22-bioc/R/bin/R CMD build --keep-empty-dirs --no-resave-data --md5 SurfR StartedAt: 2025-11-11 20:33:14 -0500 (Tue, 11 Nov 2025) EndedAt: 2025-11-11 20:33:57 -0500 (Tue, 11 Nov 2025) EllapsedTime: 43.0 seconds RetCode: 0 Status: OK PackageFile: SurfR_1.6.0.tar.gz PackageFileSize: 374.3 KiB