Package: SurfR Version: 1.4.2 Command: /home/biocbuild/R/R/bin/R CMD INSTALL SurfR StartedAt: 2025-10-13 21:05:46 -0000 (Mon, 13 Oct 2025) EndedAt: 2025-10-13 21:06:42 -0000 (Mon, 13 Oct 2025) EllapsedTime: 56.8 seconds RetCode: 0 Status: OK