Package: SurfR Version: 1.4.2 Command: /home/biocbuild/R/R/bin/R CMD build --keep-empty-dirs --no-resave-data SurfR StartedAt: 2025-10-14 05:12:59 -0000 (Tue, 14 Oct 2025) EndedAt: 2025-10-14 05:13:59 -0000 (Tue, 14 Oct 2025) EllapsedTime: 60.0 seconds RetCode: 0 Status: OK PackageFile: SurfR_1.4.2.tar.gz PackageFileSize: 438.3 KiB