Package: SuperCellCyto Version: 1.0.0 Command: /Library/Frameworks/R.framework/Resources/bin/R CMD build --keep-empty-dirs --no-resave-data SuperCellCyto StartedAt: 2025-11-03 19:01:22 -0500 (Mon, 03 Nov 2025) EndedAt: 2025-11-03 19:03:23 -0500 (Mon, 03 Nov 2025) EllapsedTime: 121.1 seconds RetCode: 0 Status: OK PackageFile: SuperCellCyto_1.0.0.tar.gz PackageFileSize: 4.437 MiB