Package: SuperCellCyto Version: 1.0.0 Command: rm -rf SuperCellCyto.buildbin-libdir && mkdir SuperCellCyto.buildbin-libdir && /Users/biocbuild/BBS/utils/build-universal.sh SuperCellCyto_1.0.0.tar.gz /Library/Frameworks/R.framework/Resources/bin/R SuperCellCyto.buildbin-libdir StartedAt: 2025-11-04 02:07:33 -0500 (Tue, 04 Nov 2025) EndedAt: 2025-11-04 02:07:45 -0500 (Tue, 04 Nov 2025) EllapsedTime: 11.6 seconds RetCode: 0 Status: OK PackageFile: SuperCellCyto_1.0.0.tgz PackageFileSize: 3.872 MiB