Package: SuperCellCyto Version: 1.0.0 Command: rm -rf SuperCellCyto.buildbin-libdir && mkdir SuperCellCyto.buildbin-libdir && /Users/biocbuild/BBS/utils/build-universal.sh SuperCellCyto_1.0.0.tar.gz /Library/Frameworks/R.framework/Resources/bin/R SuperCellCyto.buildbin-libdir StartedAt: 2025-11-10 23:38:50 -0500 (Mon, 10 Nov 2025) EndedAt: 2025-11-10 23:38:54 -0500 (Mon, 10 Nov 2025) EllapsedTime: 4.1 seconds RetCode: 0 Status: OK PackageFile: SuperCellCyto_1.0.0.tgz PackageFileSize: 3.88 MiB