Package: Summix Version: 2.16.0 Command: /home/biocbuild/bbs-3.22-bioc/R/bin/R CMD build --keep-empty-dirs --no-resave-data --md5 Summix StartedAt: 2025-11-11 20:32:50 -0500 (Tue, 11 Nov 2025) EndedAt: 2025-11-11 20:33:04 -0500 (Tue, 11 Nov 2025) EllapsedTime: 14.0 seconds RetCode: 0 Status: OK PackageFile: Summix_2.16.0.tar.gz PackageFileSize: 1.255 MiB