Package: SummarizedExperiment Version: 1.40.0 Command: /home/biocbuild/R/R/bin/R CMD INSTALL SummarizedExperiment StartedAt: 2025-11-10 21:23:08 -0000 (Mon, 10 Nov 2025) EndedAt: 2025-11-10 21:23:45 -0000 (Mon, 10 Nov 2025) EllapsedTime: 37.0 seconds RetCode: 0 Status: OK