Package: SummarizedExperiment Version: 1.40.0 Command: /home/biocbuild/R/R/bin/R CMD build --keep-empty-dirs --no-resave-data SummarizedExperiment StartedAt: 2025-11-11 05:40:42 -0000 (Tue, 11 Nov 2025) EndedAt: 2025-11-11 05:41:45 -0000 (Tue, 11 Nov 2025) EllapsedTime: 63.0 seconds RetCode: 0 Status: OK PackageFile: SummarizedExperiment_1.40.0.tar.gz PackageFileSize: 761.9 KiB