Package: SummarizedExperiment Version: 1.38.1 Command: /Library/Frameworks/R.framework/Resources/bin/R CMD INSTALL SummarizedExperiment StartedAt: 2025-10-13 15:30:31 -0400 (Mon, 13 Oct 2025) EndedAt: 2025-10-13 15:31:35 -0400 (Mon, 13 Oct 2025) EllapsedTime: 63.9 seconds RetCode: 0 Status: OK