Package: SummarizedExperiment Version: 1.38.1 Command: /Library/Frameworks/R.framework/Resources/bin/R CMD build --keep-empty-dirs --no-resave-data SummarizedExperiment StartedAt: 2025-10-13 23:05:34 -0400 (Mon, 13 Oct 2025) EndedAt: 2025-10-13 23:07:17 -0400 (Mon, 13 Oct 2025) EllapsedTime: 103.4 seconds RetCode: 0 Status: OK PackageFile: SummarizedExperiment_1.38.1.tar.gz PackageFileSize: 672.6 KiB