Package: SummarizedExperiment Version: 1.38.1 Command: rm -rf SummarizedExperiment.buildbin-libdir && mkdir SummarizedExperiment.buildbin-libdir && /Users/biocbuild/BBS/utils/build-universal.sh SummarizedExperiment_1.38.1.tar.gz /Library/Frameworks/R.framework/Resources/bin/R SummarizedExperiment.buildbin-libdir StartedAt: 2025-10-14 14:54:48 -0400 (Tue, 14 Oct 2025) EndedAt: 2025-10-14 14:55:59 -0400 (Tue, 14 Oct 2025) EllapsedTime: 70.5 seconds RetCode: 0 Status: OK PackageFile: SummarizedExperiment_1.38.1.tgz PackageFileSize: 1.899 MiB