Package: SummarizedExperiment Version: 1.38.1 Maintainer: Hervé Pagès MaintainerEmail: hpages.on.github at gmail.com git_url: https://git.bioconductor.org/packages/SummarizedExperiment git_branch: RELEASE_3_21 git_last_commit: 421e175 git_last_commit_date: 2025-04-27 18:40:43 -0400 (Sun, 27 Apr 2025)