Package: SubCellBarCode Version: 1.26.0 Command: /home/biocbuild/R/R/bin/R CMD INSTALL SubCellBarCode StartedAt: 2025-11-10 21:33:39 -0000 (Mon, 10 Nov 2025) EndedAt: 2025-11-10 21:34:11 -0000 (Mon, 10 Nov 2025) EllapsedTime: 32.5 seconds RetCode: 0 Status: OK