Package: SubCellBarCode Version: 1.26.0 Command: /home/biocbuild/R/R/bin/R CMD check --install=check:SubCellBarCode.install-out.txt --library=/home/biocbuild/R/R/site-library --no-vignettes --timings SubCellBarCode_1.26.0.tar.gz StartedAt: 2025-11-11 15:34:34 -0000 (Tue, 11 Nov 2025) EndedAt: 2025-11-11 15:40:34 -0000 (Tue, 11 Nov 2025) EllapsedTime: 359.9 seconds RetCode: 0 Status: WARNINGS CheckDir: SubCellBarCode.Rcheck Warnings: 1