Package: SubCellBarCode Version: 1.26.0 Command: /home/biocbuild/R/R/bin/R CMD build --keep-empty-dirs --no-resave-data SubCellBarCode StartedAt: 2025-11-11 05:40:12 -0000 (Tue, 11 Nov 2025) EndedAt: 2025-11-11 05:46:54 -0000 (Tue, 11 Nov 2025) EllapsedTime: 402.3 seconds RetCode: 0 Status: OK PackageFile: SubCellBarCode_1.26.0.tar.gz PackageFileSize: 1.598 MiB