Package: SubCellBarCode Version: 1.26.0 Command: /home/biocbuild/bbs-3.22-bioc/R/bin/R CMD check --install=check:SubCellBarCode.install-out.txt --library=/home/biocbuild/bbs-3.22-bioc/R/site-library --timings SubCellBarCode_1.26.0.tar.gz StartedAt: 2025-11-12 04:45:08 -0500 (Wed, 12 Nov 2025) EndedAt: 2025-11-12 04:53:14 -0500 (Wed, 12 Nov 2025) EllapsedTime: 486.4 seconds RetCode: 0 Status: WARNINGS CheckDir: SubCellBarCode.Rcheck Warnings: 1