Package: SubCellBarCode Version: 1.24.0 Command: /home/biocbuild/bbs-3.21-bioc/R/bin/R CMD check --install=check:SubCellBarCode.install-out.txt --library=/home/biocbuild/bbs-3.21-bioc/R/site-library --timings SubCellBarCode_1.24.0.tar.gz StartedAt: 2025-09-29 04:11:15 -0400 (Mon, 29 Sep 2025) EndedAt: 2025-09-29 04:19:22 -0400 (Mon, 29 Sep 2025) EllapsedTime: 486.6 seconds RetCode: 0 Status: WARNINGS CheckDir: SubCellBarCode.Rcheck Warnings: 1