Package: StructuralVariantAnnotation Version: 1.26.0 Command: /home/biocbuild/R/R/bin/R CMD INSTALL StructuralVariantAnnotation StartedAt: 2025-11-10 22:00:11 -0000 (Mon, 10 Nov 2025) EndedAt: 2025-11-10 22:01:05 -0000 (Mon, 10 Nov 2025) EllapsedTime: 54.4 seconds RetCode: 0 Status: OK