Package: StructuralVariantAnnotation Version: 1.26.0 Command: /home/biocbuild/R/R/bin/R CMD check --install=check:StructuralVariantAnnotation.install-out.txt --library=/home/biocbuild/R/R/site-library --no-vignettes --timings StructuralVariantAnnotation_1.26.0.tar.gz StartedAt: 2025-11-11 15:34:31 -0000 (Tue, 11 Nov 2025) EndedAt: 2025-11-11 15:45:47 -0000 (Tue, 11 Nov 2025) EllapsedTime: 675.8 seconds RetCode: 0 Status: OK CheckDir: StructuralVariantAnnotation.Rcheck Warnings: 0