Package: StructuralVariantAnnotation Version: 1.26.0 Command: /home/biocbuild/R/R/bin/R CMD build --keep-empty-dirs --no-resave-data StructuralVariantAnnotation StartedAt: 2025-11-11 05:39:48 -0000 (Tue, 11 Nov 2025) EndedAt: 2025-11-11 05:41:30 -0000 (Tue, 11 Nov 2025) EllapsedTime: 102.0 seconds RetCode: 0 Status: OK PackageFile: StructuralVariantAnnotation_1.26.0.tar.gz PackageFileSize: 825.6 KiB