Package: StructuralVariantAnnotation Version: 1.24.0 Command: E:\biocbuild\bbs-3.21-bioc\R\bin\R.exe CMD check --no-multiarch --install=check:StructuralVariantAnnotation.install-out.txt --library=E:\biocbuild\bbs-3.21-bioc\R\library --no-vignettes --timings StructuralVariantAnnotation_1.24.0.tar.gz StartedAt: 2025-08-15 07:33:37 -0400 (Fri, 15 Aug 2025) EndedAt: 2025-08-15 07:43:20 -0400 (Fri, 15 Aug 2025) EllapsedTime: 582.4 seconds RetCode: 0 Status: OK CheckDir: StructuralVariantAnnotation.Rcheck Warnings: 0