Package: StructuralVariantAnnotation Version: 1.26.0 Command: /home/biocbuild/bbs-3.22-bioc/R/bin/R CMD INSTALL StructuralVariantAnnotation StartedAt: 2025-11-13 15:52:28 -0500 (Thu, 13 Nov 2025) EndedAt: 2025-11-13 15:53:13 -0500 (Thu, 13 Nov 2025) EllapsedTime: 44.7 seconds RetCode: 0 Status: OK