Package: StructuralVariantAnnotation Version: 1.26.0 Command: /home/biocbuild/bbs-3.22-bioc/R/bin/R CMD build --keep-empty-dirs --no-resave-data --md5 StructuralVariantAnnotation StartedAt: 2025-11-14 20:31:45 -0500 (Fri, 14 Nov 2025) EndedAt: 2025-11-14 20:33:00 -0500 (Fri, 14 Nov 2025) EllapsedTime: 75.1 seconds RetCode: 0 Status: OK PackageFile: StructuralVariantAnnotation_1.26.0.tar.gz PackageFileSize: 977.2 KiB