Package: Structstrings Version: 1.26.0 Command: /home/biocbuild/R/R/bin/R CMD INSTALL Structstrings StartedAt: 2025-11-13 21:23:45 -0000 (Thu, 13 Nov 2025) EndedAt: 2025-11-13 21:24:08 -0000 (Thu, 13 Nov 2025) EllapsedTime: 22.9 seconds RetCode: 0 Status: OK