Package: Structstrings Version: 1.26.0 Command: /home/biocbuild/R/R/bin/R CMD check --install=check:Structstrings.install-out.txt --library=/home/biocbuild/R/R/site-library --no-vignettes --timings Structstrings_1.26.0.tar.gz StartedAt: 2025-11-11 15:33:58 -0000 (Tue, 11 Nov 2025) EndedAt: 2025-11-11 15:38:45 -0000 (Tue, 11 Nov 2025) EllapsedTime: 286.8 seconds RetCode: 0 Status: OK CheckDir: Structstrings.Rcheck Warnings: 0