Package: Structstrings Version: 1.26.0 Command: /home/biocbuild/R/R/bin/R CMD build --keep-empty-dirs --no-resave-data Structstrings StartedAt: 2025-11-11 05:39:45 -0000 (Tue, 11 Nov 2025) EndedAt: 2025-11-11 05:40:23 -0000 (Tue, 11 Nov 2025) EllapsedTime: 38.0 seconds RetCode: 0 Status: OK PackageFile: Structstrings_1.26.0.tar.gz PackageFileSize: 444.3 KiB