Package: Structstrings Version: 1.26.0 Command: /home/biocbuild/bbs-3.22-bioc/R/bin/R CMD build --keep-empty-dirs --no-resave-data --md5 Structstrings StartedAt: 2025-11-13 20:30:15 -0500 (Thu, 13 Nov 2025) EndedAt: 2025-11-13 20:30:42 -0500 (Thu, 13 Nov 2025) EllapsedTime: 27.0 seconds RetCode: 0 Status: OK PackageFile: Structstrings_1.26.0.tar.gz PackageFileSize: 375.5 KiB