Package: Structstrings Version: 1.24.0 Command: /home/biocbuild/bbs-3.21-bioc/R/bin/R CMD check --install=check:Structstrings.install-out.txt --library=/home/biocbuild/bbs-3.21-bioc/R/site-library --timings Structstrings_1.24.0.tar.gz StartedAt: 2025-10-13 04:15:02 -0400 (Mon, 13 Oct 2025) EndedAt: 2025-10-13 04:18:07 -0400 (Mon, 13 Oct 2025) EllapsedTime: 185.2 seconds RetCode: 0 Status: OK CheckDir: Structstrings.Rcheck Warnings: 0