Package: Structstrings Version: 1.24.0 Command: /Library/Frameworks/R.framework/Resources/bin/R CMD build --keep-empty-dirs --no-resave-data Structstrings StartedAt: 2025-04-21 18:38:48 -0400 (Mon, 21 Apr 2025) EndedAt: 2025-04-21 18:39:21 -0400 (Mon, 21 Apr 2025) EllapsedTime: 33.1 seconds RetCode: 0 Status: OK PackageFile: Structstrings_1.24.0.tar.gz PackageFileSize: 366.7 KiB