Package: Structstrings Version: 1.24.0 Command: /home/biocbuild/R/R/bin/R CMD check --install=check:Structstrings.install-out.txt --library=/home/biocbuild/R/R/site-library --no-vignettes --timings Structstrings_1.24.0.tar.gz StartedAt: 2025-10-03 15:04:08 -0000 (Fri, 03 Oct 2025) EndedAt: 2025-10-03 15:08:44 -0000 (Fri, 03 Oct 2025) EllapsedTime: 275.3 seconds RetCode: 0 Status: OK CheckDir: Structstrings.Rcheck Warnings: 0