Package: Structstrings Version: 1.24.0 Command: /Library/Frameworks/R.framework/Resources/bin/R CMD check --install=check:Structstrings.install-out.txt --library=/Library/Frameworks/R.framework/Resources/library --no-vignettes --timings Structstrings_1.24.0.tar.gz StartedAt: 2025-10-15 14:32:30 -0400 (Wed, 15 Oct 2025) EndedAt: 2025-10-15 14:35:57 -0400 (Wed, 15 Oct 2025) EllapsedTime: 207.0 seconds RetCode: 0 Status: OK CheckDir: Structstrings.Rcheck Warnings: 0