Package: Streamer Version: 1.54.0 Command: /home/biocbuild/R/R/bin/R CMD INSTALL Streamer StartedAt: 2025-10-13 20:26:20 -0000 (Mon, 13 Oct 2025) EndedAt: 2025-10-13 20:26:29 -0000 (Mon, 13 Oct 2025) EllapsedTime: 8.6 seconds RetCode: 0 Status: OK