Package: Streamer Version: 1.54.0 Command: /home/biocbuild/R/R/bin/R CMD build --keep-empty-dirs --no-resave-data Streamer StartedAt: 2025-10-14 05:10:11 -0000 (Tue, 14 Oct 2025) EndedAt: 2025-10-14 05:10:35 -0000 (Tue, 14 Oct 2025) EllapsedTime: 24.0 seconds RetCode: 0 Status: OK PackageFile: Streamer_1.54.0.tar.gz PackageFileSize: 130.9 KiB