Package: Streamer Version: 1.56.0 Command: /Library/Frameworks/R.framework/Resources/bin/R CMD INSTALL Streamer StartedAt: 2025-11-06 15:07:19 -0500 (Thu, 06 Nov 2025) EndedAt: 2025-11-06 15:07:23 -0500 (Thu, 06 Nov 2025) EllapsedTime: 3.5 seconds RetCode: 0 Status: OK