Package: Streamer Version: 1.56.0 Command: /Library/Frameworks/R.framework/Resources/bin/R CMD build --keep-empty-dirs --no-resave-data Streamer StartedAt: 2025-11-06 17:54:31 -0500 (Thu, 06 Nov 2025) EndedAt: 2025-11-06 17:54:41 -0500 (Thu, 06 Nov 2025) EllapsedTime: 9.1 seconds RetCode: 0 Status: OK PackageFile: Streamer_1.56.0.tar.gz PackageFileSize: 134.1 KiB