Package: Streamer Version: 1.56.0 Command: rm -rf Streamer.buildbin-libdir && mkdir Streamer.buildbin-libdir && /Users/biocbuild/BBS/utils/build-universal.sh Streamer_1.56.0.tar.gz /Library/Frameworks/R.framework/Resources/bin/R Streamer.buildbin-libdir StartedAt: 2025-11-06 23:23:44 -0500 (Thu, 06 Nov 2025) EndedAt: 2025-11-06 23:23:48 -0500 (Thu, 06 Nov 2025) EllapsedTime: 4.1 seconds RetCode: 0 Status: OK PackageFile: Streamer_1.56.0.tgz PackageFileSize: 553.8 KiB